BEGIN:VCALENDAR
VERSION:2.0
PRODID:-//eventon.com NONSGML v1.0//EN
CALSCALE:GREGORIAN
METHOD:PUBLISH
BEGIN:VEVENT
UID:69e60ebfcf398
DTSTAMP:20260420T113215Z
DTSTART:20260311T150100Z
DTEND:20260311T150100Z
LOCATION:Magione Circuit
SUMMARY:BASE Class
DESCRIPTION:To learn how to drive on the track\,  we have chosen the BASE C
 lass with Legend Cars for novice drivers. This car is a real racing car\,  
 with all the features that make it a gem for thrilling driving and gaining 
 racing experience on racetracks. Starting in the Castelletto Circuit\, [..]
 \nhttps://www.giokart.it/en/events/beginners-legend-lesson-magione-2/
URL:https://www.giokart.it/en/events/beginners-legend-lesson-magione-2/
END:VEVENT
END:VCALENDAR